BEGIN:VCALENDAR
VERSION:2.0
PRODID:-//Heart Heroes - ECPv6.15.20//NONSGML v1.0//EN
CALSCALE:GREGORIAN
METHOD:PUBLISH
X-WR-CALNAME:Heart Heroes
X-ORIGINAL-URL:https://heartheroes.org
X-WR-CALDESC:Events for Heart Heroes
REFRESH-INTERVAL;VALUE=DURATION:PT1H
X-Robots-Tag:noindex
X-PUBLISHED-TTL:PT1H
BEGIN:VTIMEZONE
TZID:America/North_Dakota/New_Salem
BEGIN:DAYLIGHT
TZOFFSETFROM:-0600
TZOFFSETTO:-0500
TZNAME:CDT
DTSTART:20250309T080000
END:DAYLIGHT
BEGIN:STANDARD
TZOFFSETFROM:-0500
TZOFFSETTO:-0600
TZNAME:CST
DTSTART:20251102T070000
END:STANDARD
BEGIN:DAYLIGHT
TZOFFSETFROM:-0600
TZOFFSETTO:-0500
TZNAME:CDT
DTSTART:20260308T080000
END:DAYLIGHT
BEGIN:STANDARD
TZOFFSETFROM:-0500
TZOFFSETTO:-0600
TZNAME:CST
DTSTART:20261101T070000
END:STANDARD
BEGIN:DAYLIGHT
TZOFFSETFROM:-0600
TZOFFSETTO:-0500
TZNAME:CDT
DTSTART:20270314T080000
END:DAYLIGHT
BEGIN:STANDARD
TZOFFSETFROM:-0500
TZOFFSETTO:-0600
TZNAME:CST
DTSTART:20271107T070000
END:STANDARD
END:VTIMEZONE
BEGIN:VEVENT
DTSTART;TZID=America/North_Dakota/New_Salem:20260426T140000
DTEND;TZID=America/North_Dakota/New_Salem:20260426T150000
DTSTAMP:20260423T175528
CREATED:20260323T152903Z
LAST-MODIFIED:20260323T152903Z
UID:28669-1777212000-1777215600@heartheroes.org
SUMMARY:Wiffle Ball Practice
DESCRIPTION:  \nJoin us at our Heart Heroes Wiffle Ball practicefrom 2:00PM-3:00PM at the Elkhorn Training Camp! \nThis fun\, active hour is designed especially for our Heart Heroes to build friendships\, confidence\, and strength – one swing at a time. \nWe can’t wait to see our Heart Heroes on the field!
URL:https://heartheroes.org/event/wiffle-ball-practice-2/
LOCATION:Elkhorn Training Camp
END:VEVENT
BEGIN:VEVENT
DTSTART;TZID=America/North_Dakota/New_Salem:20260613T180500
DTEND;TZID=America/North_Dakota/New_Salem:20260613T213000
DTSTAMP:20260423T175528
CREATED:20260323T193557Z
LAST-MODIFIED:20260323T193557Z
UID:28694-1781373900-1781386200@heartheroes.org
SUMMARY:Heart Heroes Night with the Omaha Storm Chasers!
DESCRIPTION:Join us for a night at the ballpark with the Omaha Storm Chasers! ⚾ \nBring your family & friends\, cheer loudly\, and help us knock it out of the park for our Heart Heroes! —We can’t wait to see you there! \n>>>GET TICKETS HERE<<<\nA special thank you to the Robbins Family Charitable Foundation for providing gifts for our CHD families the night of the event.
URL:https://heartheroes.org/event/omaha-storm-chasers/
LOCATION:Werner Park\, 12356 Ballpark Way\, Papilliion\, NE\, 68046\, United States
ATTACH;FMTTYPE=image/png:https://heartheroes.org/wp-content/uploads/2026/03/Storm-Chasers-Game.png
END:VEVENT
BEGIN:VEVENT
DTSTART;VALUE=DATE:20260713
DTEND;VALUE=DATE:20260714
DTSTAMP:20260423T175528
CREATED:20260219T161912Z
LAST-MODIFIED:20260226T180430Z
UID:28366-1783900800-1783987199@heartheroes.org
SUMMARY:2026 Holes FORE Heroes Golf Tournament
DESCRIPTION:LEARN MORE
URL:https://heartheroes.org/event/2026-holes-fore-heroes-golf-tournament/
LOCATION:Champions Run\, 13800 Eagle Run Dr\, Omaha\, NE\, 68164
CATEGORIES:All
ATTACH;FMTTYPE=image/png:https://heartheroes.org/wp-content/uploads/2026/02/Untitled-design-3.png
END:VEVENT
BEGIN:VEVENT
DTSTART;TZID=America/North_Dakota/New_Salem:20260829T170000
DTEND;TZID=America/North_Dakota/New_Salem:20260829T190000
DTSTAMP:20260423T175528
CREATED:20260417T154955Z
LAST-MODIFIED:20260420T203313Z
UID:28798-1788022800-1788030000@heartheroes.org
SUMMARY:Heartbeat Happy Hour
DESCRIPTION:Heartbeat Happy Hour is a fun adults (21+) night out with a purpose! Join Heart Heroes at 30hop for drinks\, appetizers\, and a hands-on bystander CPR training. Register here: https://secure.qgiv.com/event/heahaphou/
URL:https://heartheroes.org/event/heartbeat-happy-hour/
LOCATION:30hop\, 114 N 145th St\, Omaha\, NE\, 68154\, United States
ATTACH;FMTTYPE=image/png:https://heartheroes.org/wp-content/uploads/2026/04/Heartbeat-Happy-Hour-3-1-e1776441071387.png
END:VEVENT
BEGIN:VEVENT
DTSTART;TZID=America/North_Dakota/New_Salem:20261004T110000
DTEND;TZID=America/North_Dakota/New_Salem:20261004T143000
DTSTAMP:20260423T175528
CREATED:20260330T171718Z
LAST-MODIFIED:20260330T174550Z
UID:28727-1791111600-1791124200@heartheroes.org
SUMMARY:Des Moines Superhero Heart Run
DESCRIPTION:Get ready to walk\, run\, and FLY at the Des Moines Superhero Heart Run! Join Help-A-Heart and Heart Heroes\, Inc. for our annual 5k/1mile fun run aimed at raising awareness for Congenital Heart Disease (CHD) in our community. Presented by Heart Heroes and Help-A-Heart.
URL:https://heartheroes.org/event/des-moines-superhero-heart-run/
LOCATION:Raccoon River Park\, 2500 Grand Ave\, West Des Moines\, IA\, 50265\, United States
END:VEVENT
BEGIN:VEVENT
DTSTART;TZID=America/North_Dakota/New_Salem:20261011T090000
DTEND;TZID=America/North_Dakota/New_Salem:20261011T120000
DTSTAMP:20260423T175528
CREATED:20260330T170834Z
LAST-MODIFIED:20260330T174348Z
UID:28724-1791709200-1791720000@heartheroes.org
SUMMARY:Omaha Superhero Heart Run
DESCRIPTION:Get ready to walk\, run\, and FLY at the 14th annual Omaha Superhero Heart Run! Join Heart Heroes\, Inc. for our annual 5k/1mile fun run aimed at raising awareness for Congenital Heart Disease (CHD) in our community.
URL:https://heartheroes.org/event/omaha-superhero-heart-run/
LOCATION:Werner Park\, 12356 Ballpark Way\, Papilliion\, NE\, 68046\, United States
ATTACH;FMTTYPE=image/png:https://heartheroes.org/wp-content/uploads/2026/03/Omaha-4.png
END:VEVENT
END:VCALENDAR